BEGIN:VCALENDAR
VERSION:2.0
PRODID:-//Blackmount Community Council - ECPv6.15.20//NONSGML v1.0//EN
CALSCALE:GREGORIAN
METHOD:PUBLISH
X-WR-CALNAME:Blackmount Community Council
X-ORIGINAL-URL:https://blackmountcc.scot
X-WR-CALDESC:Events for Blackmount Community Council
REFRESH-INTERVAL;VALUE=DURATION:PT1H
X-Robots-Tag:noindex
X-PUBLISHED-TTL:PT1H
BEGIN:VTIMEZONE
TZID:UTC
BEGIN:STANDARD
TZOFFSETFROM:+0000
TZOFFSETTO:+0000
TZNAME:UTC
DTSTART:20250101T000000
END:STANDARD
END:VTIMEZONE
BEGIN:VEVENT
DTSTART;TZID=UTC:20261102T193000
DTEND;TZID=UTC:20261102T210000
DTSTAMP:20260420T142602
CREATED:20260403T180653Z
LAST-MODIFIED:20260403T180653Z
UID:204-1793647800-1793653200@blackmountcc.scot
SUMMARY:BMCC November AGM
DESCRIPTION:The Blackmount Community Council AGM will take place on Monday\, 2 November 2026. \nThis important annual meeting provides an opportunity to reflect on the past year\, including updates on local initiatives\, community projects\, and key issues affecting the area. Reports will be presented by Community Council members\, followed by the election of office bearers for the coming year. \nThe AGM is a chance for residents to have their say\, ask questions\, and get involved in supporting the work of the Community Council. \nAll members of the community are encouraged to attend. \nAll are welcome.
URL:https://blackmountcc.scot/event/bmcc-november-agm-2
LOCATION:Dolphinton Hall\, Edinburgh Road\, Dolphinton\, Scottish Borders\, EH46 7AD\, United Kingdom
ORGANIZER;CN="Blackmount Community Council":MAILTO:secretary@blackmountcc.scot
END:VEVENT
END:VCALENDAR