BEGIN:VCALENDAR
VERSION:2.0
PRODID:-//Blackmount Community Council - ECPv6.15.20//NONSGML v1.0//EN
CALSCALE:GREGORIAN
METHOD:PUBLISH
X-WR-CALNAME:Blackmount Community Council
X-ORIGINAL-URL:https://blackmountcc.scot
X-WR-CALDESC:Events for Blackmount Community Council
REFRESH-INTERVAL;VALUE=DURATION:PT1H
X-Robots-Tag:noindex
X-PUBLISHED-TTL:PT1H
BEGIN:VTIMEZONE
TZID:UTC
BEGIN:STANDARD
TZOFFSETFROM:+0000
TZOFFSETTO:+0000
TZNAME:UTC
DTSTART:20240101T000000
END:STANDARD
END:VTIMEZONE
BEGIN:VEVENT
DTSTART;TZID=UTC:20251103T193000
DTEND;TZID=UTC:20251103T210000
DTSTAMP:20260420T043503
CREATED:20260403T174202Z
LAST-MODIFIED:20260403T174202Z
UID:184-1762198200-1762203600@blackmountcc.scot
SUMMARY:BMCC November AGM
DESCRIPTION:The Blackmount Community Council AGM will take place on Monday\, 3rd November 2025. This is an opportunity for residents to hear updates on community activities over the past year\, review key developments\, and discuss priorities for the year ahead. \nThe meeting will include reports from Community Council members\, an overview of local projects and initiatives\, and the election of office bearers. Residents are encouraged to attend\, share their views\, and get involved in shaping the future of the Blackmount area. \nAll members of the community are welcome.
URL:https://blackmountcc.scot/event/bmcc-november-agm
LOCATION:Elsrickle Community Hub\, Village Hall\, Elsrickle\, ML12 6QZ\, United Kingdom
END:VEVENT
END:VCALENDAR