BEGIN:VCALENDAR
VERSION:2.0
PRODID:-//Blackmount Community Council - ECPv6.15.20//NONSGML v1.0//EN
CALSCALE:GREGORIAN
METHOD:PUBLISH
X-ORIGINAL-URL:https://blackmountcc.scot
X-WR-CALDESC:Events for Blackmount Community Council
REFRESH-INTERVAL;VALUE=DURATION:PT1H
X-Robots-Tag:noindex
X-PUBLISHED-TTL:PT1H
BEGIN:VTIMEZONE
TZID:Europe/London
BEGIN:DAYLIGHT
TZOFFSETFROM:+0000
TZOFFSETTO:+0100
TZNAME:BST
DTSTART:20240331T010000
END:DAYLIGHT
BEGIN:STANDARD
TZOFFSETFROM:+0100
TZOFFSETTO:+0000
TZNAME:GMT
DTSTART:20241027T010000
END:STANDARD
BEGIN:DAYLIGHT
TZOFFSETFROM:+0000
TZOFFSETTO:+0100
TZNAME:BST
DTSTART:20250330T010000
END:DAYLIGHT
BEGIN:STANDARD
TZOFFSETFROM:+0100
TZOFFSETTO:+0000
TZNAME:GMT
DTSTART:20251026T010000
END:STANDARD
BEGIN:DAYLIGHT
TZOFFSETFROM:+0000
TZOFFSETTO:+0100
TZNAME:BST
DTSTART:20260329T010000
END:DAYLIGHT
BEGIN:STANDARD
TZOFFSETFROM:+0100
TZOFFSETTO:+0000
TZNAME:GMT
DTSTART:20261025T010000
END:STANDARD
END:VTIMEZONE
BEGIN:VEVENT
DTSTART;TZID=Europe/London:20250901T193000
DTEND;TZID=Europe/London:20250901T210000
DTSTAMP:20260421T005320
CREATED:20250830T200235Z
LAST-MODIFIED:20250830T200235Z
UID:151-1756755000-1756760400@blackmountcc.scot
SUMMARY:BMCC September Event
DESCRIPTION:Want to have a say in what’s happening in our community? Join us at the next Blackmount Community Council meeting! It’s a chance to hear local updates\, share your views\, and help shape the future of our community.
URL:https://blackmountcc.scot/event/bmcc-september-event
LOCATION:Elsrickle Community Hub\, Village Hall\, Elsrickle\, ML12 6QZ\, United Kingdom
ORGANIZER;CN="Blackmount Community Council":MAILTO:secretary@blackmountcc.scot
END:VEVENT
END:VCALENDAR