BEGIN:VCALENDAR
VERSION:2.0
PRODID:-//Blackmount Community Council - ECPv6.15.20//NONSGML v1.0//EN
CALSCALE:GREGORIAN
METHOD:PUBLISH
X-WR-CALNAME:Blackmount Community Council
X-ORIGINAL-URL:https://blackmountcc.scot
X-WR-CALDESC:Events for Blackmount Community Council
REFRESH-INTERVAL;VALUE=DURATION:PT1H
X-Robots-Tag:noindex
X-PUBLISHED-TTL:PT1H
BEGIN:VTIMEZONE
TZID:UTC
BEGIN:STANDARD
TZOFFSETFROM:+0000
TZOFFSETTO:+0000
TZNAME:UTC
DTSTART:20230101T000000
END:STANDARD
END:VTIMEZONE
BEGIN:VEVENT
DTSTART;TZID=UTC:20241104T193000
DTEND;TZID=UTC:20241104T210000
DTSTAMP:20260421T114320
CREATED:20241103T142741Z
LAST-MODIFIED:20241103T142741Z
UID:33-1730748600-1730754000@blackmountcc.scot
SUMMARY:Blackmount Community Council AGM
DESCRIPTION:Join us for the Blackmount Community Council Annual General Meeting (AGM)\, where we’ll review the year’s accomplishments\, discuss key community issues\, and set priorities for the coming year. \nThe AGM is open to all residents and provides a platform for questions\, ideas\, and discussion on how we can continue to build a safe\, inclusive\, and thriving community. \nWe look forward to seeing you there and hearing your input!
URL:https://blackmountcc.scot/event/blackmount-community-council-agm
LOCATION:Elsrickle Community Hub\, Village Hall\, Elsrickle\, ML12 6QZ\, United Kingdom
ORGANIZER;CN="Blackmount Community Council":MAILTO:secretary@blackmountcc.scot
END:VEVENT
BEGIN:VEVENT
DTSTART;TZID=UTC:20241007T190000
DTEND;TZID=UTC:20241007T210000
DTSTAMP:20260421T114320
CREATED:20241007T111949Z
LAST-MODIFIED:20241007T111949Z
UID:26-1728327600-1728334800@blackmountcc.scot
SUMMARY:Blackmount Community Council Meeting
DESCRIPTION:
URL:https://blackmountcc.scot/event/blackmount-community-council-meeting
LOCATION:Elsrickle Community Hub\, Village Hall\, Elsrickle\, ML12 6QZ\, United Kingdom
ORGANIZER;CN="Blackmount Community Council":MAILTO:secretary@blackmountcc.scot
END:VEVENT
END:VCALENDAR